Package: ncRNAtools Version: 1.10.0 Command: F:\biocbuild\bbs-3.17-bioc\R\bin\R.exe CMD check --no-multiarch --install=check:ncRNAtools.install-out.txt --library=F:\biocbuild\bbs-3.17-bioc\R\library --no-vignettes --timings ncRNAtools_1.10.0.tar.gz StartedAt: 2023-10-16 04:41:37 -0400 (Mon, 16 Oct 2023) EndedAt: 2023-10-16 04:43:27 -0400 (Mon, 16 Oct 2023) EllapsedTime: 109.8 seconds RetCode: 0 Status: OK CheckDir: ncRNAtools.Rcheck Warnings: 0