Package: ncRNAtools Version: 1.10.0 Command: /home/biocbuild/bbs-3.17-bioc/R/bin/R CMD check --install=check:ncRNAtools.install-out.txt --library=/home/biocbuild/bbs-3.17-bioc/R/site-library --timings ncRNAtools_1.10.0.tar.gz StartedAt: 2023-10-15 23:15:38 -0400 (Sun, 15 Oct 2023) EndedAt: 2023-10-15 23:18:10 -0400 (Sun, 15 Oct 2023) EllapsedTime: 152.1 seconds RetCode: 0 Status: OK CheckDir: ncRNAtools.Rcheck Warnings: 0