Package: mzR Version: 2.34.1 Command: chmod a+r mzR -R && F:\biocbuild\bbs-3.17-bioc\R\bin\R.exe CMD build --keep-empty-dirs --no-resave-data mzR StartedAt: 2023-10-15 20:47:31 -0400 (Sun, 15 Oct 2023) EndedAt: 2023-10-15 21:00:25 -0400 (Sun, 15 Oct 2023) EllapsedTime: 773.6 seconds RetCode: 0 Status: OK PackageFile: mzR_2.34.1.tar.gz PackageFileSize: 7.306 MiB