Package: mzR Version: 2.34.1 Command: rm -rf mzR.buildbin-libdir && mkdir mzR.buildbin-libdir && F:\biocbuild\bbs-3.17-bioc\R\bin\R.exe CMD INSTALL --build --library=mzR.buildbin-libdir mzR_2.34.1.tar.gz StartedAt: 2023-10-16 09:09:50 -0400 (Mon, 16 Oct 2023) EndedAt: 2023-10-16 09:23:28 -0400 (Mon, 16 Oct 2023) EllapsedTime: 817.5 seconds RetCode: 0 Status: OK PackageFile: mzR_2.34.1.zip PackageFileSize: 3.746 MiB