Package: mzR Version: 2.34.1 Command: /home/biocbuild/bbs-3.17-bioc/R/bin/R CMD INSTALL mzR StartedAt: 2023-10-15 15:10:22 -0400 (Sun, 15 Oct 2023) EndedAt: 2023-10-15 15:18:46 -0400 (Sun, 15 Oct 2023) EllapsedTime: 503.4 seconds RetCode: 0 Status: OK