Package: mzR Version: 2.34.1 Command: /home/biocbuild/bbs-3.17-bioc/R/bin/R CMD check --install=check:mzR.install-out.txt --library=/home/biocbuild/bbs-3.17-bioc/R/site-library --timings mzR_2.34.1.tar.gz StartedAt: 2023-10-15 23:13:00 -0400 (Sun, 15 Oct 2023) EndedAt: 2023-10-15 23:14:24 -0400 (Sun, 15 Oct 2023) EllapsedTime: 84.6 seconds RetCode: 0 Status: WARNINGS CheckDir: mzR.Rcheck Warnings: 2