Package: mzR Version: 2.34.1 Command: /home/biocbuild/bbs-3.17-bioc/R/bin/R CMD build --keep-empty-dirs --no-resave-data mzR StartedAt: 2023-10-15 17:37:07 -0400 (Sun, 15 Oct 2023) EndedAt: 2023-10-15 17:48:56 -0400 (Sun, 15 Oct 2023) EllapsedTime: 709.2 seconds RetCode: 0 Status: OK PackageFile: mzR_2.34.1.tar.gz PackageFileSize: 7.318 MiB