Package: mzR Version: 2.34.1 Command: /Library/Frameworks/R.framework/Resources/bin/R CMD check --install=check:mzR.install-out.txt --library=/Library/Frameworks/R.framework/Resources/library --no-vignettes --timings mzR_2.34.1.tar.gz StartedAt: 2023-10-16 04:32:14 -0400 (Mon, 16 Oct 2023) EndedAt: 2023-10-16 04:35:50 -0400 (Mon, 16 Oct 2023) EllapsedTime: 216.3 seconds RetCode: 0 Status: WARNINGS CheckDir: mzR.Rcheck Warnings: 2