Package: mzR Version: 2.34.1 Command: rm -rf mzR.buildbin-libdir && mkdir mzR.buildbin-libdir && /Users/biocbuild/BBS/utils/build-universal.sh mzR_2.34.1.tar.gz /Library/Frameworks/R.framework/Resources/bin/R mzR.buildbin-libdir StartedAt: 2023-10-16 09:48:59 -0400 (Mon, 16 Oct 2023) EndedAt: 2023-10-16 10:18:20 -0400 (Mon, 16 Oct 2023) EllapsedTime: 1761.0 seconds RetCode: 0 Status: OK PackageFile: mzR_2.34.1.tgz PackageFileSize: 3.995 MiB