Package: mzID Version: 1.38.0 Command: rm -rf mzID.buildbin-libdir && mkdir mzID.buildbin-libdir && F:\biocbuild\bbs-3.17-bioc\R\bin\R.exe CMD INSTALL --build --library=mzID.buildbin-libdir mzID_1.38.0.tar.gz StartedAt: 2023-10-16 09:09:47 -0400 (Mon, 16 Oct 2023) EndedAt: 2023-10-16 09:10:00 -0400 (Mon, 16 Oct 2023) EllapsedTime: 12.4 seconds RetCode: 0 Status: OK PackageFile: mzID_1.38.0.zip PackageFileSize: 817 KiB