Package: mzID Version: 1.38.0 Command: /home/biocbuild/bbs-3.17-bioc/R/bin/R CMD check --install=check:mzID.install-out.txt --library=/home/biocbuild/bbs-3.17-bioc/R/site-library --timings mzID_1.38.0.tar.gz StartedAt: 2023-10-15 23:12:56 -0400 (Sun, 15 Oct 2023) EndedAt: 2023-10-15 23:13:30 -0400 (Sun, 15 Oct 2023) EllapsedTime: 34.0 seconds RetCode: 0 Status: OK CheckDir: mzID.Rcheck Warnings: 0