Package: mzID Version: 1.38.0 Command: /Library/Frameworks/R.framework/Resources/bin/R CMD check --install=check:mzID.install-out.txt --library=/Library/Frameworks/R.framework/Resources/library --no-vignettes --timings mzID_1.38.0.tar.gz StartedAt: 2023-10-16 04:32:07 -0400 (Mon, 16 Oct 2023) EndedAt: 2023-10-16 04:33:42 -0400 (Mon, 16 Oct 2023) EllapsedTime: 94.2 seconds RetCode: 0 Status: OK CheckDir: mzID.Rcheck Warnings: 0