Package: myvariant Version: 1.30.0 Command: chmod a+r myvariant -R && F:\biocbuild\bbs-3.17-bioc\R\bin\R.exe CMD build --keep-empty-dirs --no-resave-data myvariant StartedAt: 2023-10-15 20:47:03 -0400 (Sun, 15 Oct 2023) EndedAt: 2023-10-15 20:48:10 -0400 (Sun, 15 Oct 2023) EllapsedTime: 66.5 seconds RetCode: 0 Status: OK PackageFile: myvariant_1.30.0.tar.gz PackageFileSize: 159.3 KiB