Package: myvariant Version: 1.30.0 Command: rm -rf myvariant.buildbin-libdir && mkdir myvariant.buildbin-libdir && F:\biocbuild\bbs-3.17-bioc\R\bin\R.exe CMD INSTALL --build --library=myvariant.buildbin-libdir myvariant_1.30.0.tar.gz StartedAt: 2023-10-16 09:09:46 -0400 (Mon, 16 Oct 2023) EndedAt: 2023-10-16 09:10:43 -0400 (Mon, 16 Oct 2023) EllapsedTime: 57.4 seconds RetCode: 0 Status: OK PackageFile: myvariant_1.30.0.zip PackageFileSize: 221 KiB