Package: myvariant Version: 1.30.0 Command: /Library/Frameworks/R.framework/Resources/bin/R CMD INSTALL myvariant StartedAt: 2023-10-15 15:47:01 -0400 (Sun, 15 Oct 2023) EndedAt: 2023-10-15 15:49:13 -0400 (Sun, 15 Oct 2023) EllapsedTime: 131.8 seconds RetCode: 0 Status: OK