Package: mygene Version: 1.36.0 Command: F:\biocbuild\bbs-3.17-bioc\R\bin\R.exe CMD INSTALL mygene StartedAt: 2023-10-15 16:24:30 -0400 (Sun, 15 Oct 2023) EndedAt: 2023-10-15 16:25:12 -0400 (Sun, 15 Oct 2023) EllapsedTime: 41.2 seconds RetCode: 0 Status: OK