Package: mygene Version: 1.36.0 Command: F:\biocbuild\bbs-3.17-bioc\R\bin\R.exe CMD check --no-multiarch --install=check:mygene.install-out.txt --library=F:\biocbuild\bbs-3.17-bioc\R\library --no-vignettes --timings mygene_1.36.0.tar.gz StartedAt: 2023-10-16 04:36:31 -0400 (Mon, 16 Oct 2023) EndedAt: 2023-10-16 04:40:12 -0400 (Mon, 16 Oct 2023) EllapsedTime: 221.3 seconds RetCode: 0 Status: OK CheckDir: mygene.Rcheck Warnings: 0