Package: mygene Version: 1.36.0 Command: /home/biocbuild/bbs-3.17-bioc/R/bin/R CMD build --keep-empty-dirs --no-resave-data mygene StartedAt: 2023-10-15 17:37:02 -0400 (Sun, 15 Oct 2023) EndedAt: 2023-10-15 17:37:57 -0400 (Sun, 15 Oct 2023) EllapsedTime: 55.2 seconds RetCode: 0 Status: OK PackageFile: mygene_1.36.0.tar.gz PackageFileSize: 167.3 KiB