Package: musicatk Version: 1.10.0 Command: /home/biocbuild/bbs-3.17-bioc/R/bin/R CMD check --install=check:musicatk.install-out.txt --library=/home/biocbuild/bbs-3.17-bioc/R/site-library --timings musicatk_1.10.0.tar.gz StartedAt: 2023-10-15 23:12:12 -0400 (Sun, 15 Oct 2023) EndedAt: 2023-10-15 23:19:29 -0400 (Sun, 15 Oct 2023) EllapsedTime: 436.3 seconds RetCode: 0 Status: OK CheckDir: musicatk.Rcheck Warnings: 0