Package: musicatk Version: 1.10.0 Command: /Library/Frameworks/R.framework/Resources/bin/R CMD INSTALL musicatk StartedAt: 2023-10-15 16:27:12 -0400 (Sun, 15 Oct 2023) EndedAt: 2023-10-15 16:29:31 -0400 (Sun, 15 Oct 2023) EllapsedTime: 138.8 seconds RetCode: 0 Status: OK