Package: muscle Version: 3.42.0 Command: /home/biocbuild/bbs-3.17-bioc/R/bin/R CMD check --install=check:muscle.install-out.txt --library=/home/biocbuild/bbs-3.17-bioc/R/site-library --timings muscle_3.42.0.tar.gz StartedAt: 2023-10-15 23:12:03 -0400 (Sun, 15 Oct 2023) EndedAt: 2023-10-15 23:13:30 -0400 (Sun, 15 Oct 2023) EllapsedTime: 86.9 seconds RetCode: 0 Status: WARNINGS CheckDir: muscle.Rcheck Warnings: 2