Package: muscle Version: 3.42.0 Command: /home/biocbuild/bbs-3.17-bioc/R/bin/R CMD build --keep-empty-dirs --no-resave-data muscle StartedAt: 2023-10-15 17:36:40 -0400 (Sun, 15 Oct 2023) EndedAt: 2023-10-15 17:37:31 -0400 (Sun, 15 Oct 2023) EllapsedTime: 50.8 seconds RetCode: 0 Status: OK PackageFile: muscle_3.42.0.tar.gz PackageFileSize: 292.7 KiB