Package: muscle Version: 3.42.0 Command: /Library/Frameworks/R.framework/Resources/bin/R CMD check --install=check:muscle.install-out.txt --library=/Library/Frameworks/R.framework/Resources/library --no-vignettes --timings muscle_3.42.0.tar.gz StartedAt: 2023-10-16 04:30:18 -0400 (Mon, 16 Oct 2023) EndedAt: 2023-10-16 04:33:36 -0400 (Mon, 16 Oct 2023) EllapsedTime: 198.5 seconds RetCode: 0 Status: WARNINGS CheckDir: muscle.Rcheck Warnings: 2