Package: multtest Version: 2.56.0 Command: /home/biocbuild/bbs-3.17-bioc/R/bin/R CMD INSTALL multtest StartedAt: 2023-10-15 15:37:21 -0400 (Sun, 15 Oct 2023) EndedAt: 2023-10-15 15:37:34 -0400 (Sun, 15 Oct 2023) EllapsedTime: 12.9 seconds RetCode: 0 Status: OK