Package: multtest Version: 2.56.0 Command: /Library/Frameworks/R.framework/Resources/bin/R CMD INSTALL multtest StartedAt: 2023-10-15 16:05:40 -0400 (Sun, 15 Oct 2023) EndedAt: 2023-10-15 16:06:24 -0400 (Sun, 15 Oct 2023) EllapsedTime: 43.7 seconds RetCode: 0 Status: OK