Package: multtest Version: 2.56.0 Command: rm -rf multtest.buildbin-libdir && mkdir multtest.buildbin-libdir && /Users/biocbuild/BBS/utils/build-universal.sh multtest_2.56.0.tar.gz /Library/Frameworks/R.framework/Resources/bin/R multtest.buildbin-libdir StartedAt: 2023-10-16 09:48:21 -0400 (Mon, 16 Oct 2023) EndedAt: 2023-10-16 09:49:08 -0400 (Mon, 16 Oct 2023) EllapsedTime: 46.4 seconds RetCode: 0 Status: OK PackageFile: multtest_2.56.0.tgz PackageFileSize: 828.5 KiB