Package: multiscan Version: 1.60.0 Command: F:\biocbuild\bbs-3.17-bioc\R\bin\R.exe CMD INSTALL multiscan StartedAt: 2023-10-15 15:48:29 -0400 (Sun, 15 Oct 2023) EndedAt: 2023-10-15 15:48:37 -0400 (Sun, 15 Oct 2023) EllapsedTime: 7.8 seconds RetCode: 0 Status: OK