Package: multiscan Version: 1.60.0 Command: chmod a+r multiscan -R && F:\biocbuild\bbs-3.17-bioc\R\bin\R.exe CMD build --keep-empty-dirs --no-resave-data multiscan StartedAt: 2023-10-15 20:45:07 -0400 (Sun, 15 Oct 2023) EndedAt: 2023-10-15 20:45:24 -0400 (Sun, 15 Oct 2023) EllapsedTime: 16.0 seconds RetCode: 0 Status: OK PackageFile: multiscan_1.60.0.tar.gz PackageFileSize: 532.6 KiB