Package: multiscan Version: 1.60.0 Command: rm -rf multiscan.buildbin-libdir && mkdir multiscan.buildbin-libdir && F:\biocbuild\bbs-3.17-bioc\R\bin\R.exe CMD INSTALL --build --library=multiscan.buildbin-libdir multiscan_1.60.0.tar.gz StartedAt: 2023-10-16 09:09:18 -0400 (Mon, 16 Oct 2023) EndedAt: 2023-10-16 09:09:25 -0400 (Mon, 16 Oct 2023) EllapsedTime: 7.0 seconds RetCode: 0 Status: OK PackageFile: multiscan_1.60.0.zip PackageFileSize: 564.8 KiB