Package: multicrispr Version: 1.10.1 Command: chmod a+r multicrispr -R && F:\biocbuild\bbs-3.17-bioc\R\bin\R.exe CMD build --keep-empty-dirs --no-resave-data multicrispr StartedAt: 2023-10-15 20:44:24 -0400 (Sun, 15 Oct 2023) EndedAt: 2023-10-15 20:46:01 -0400 (Sun, 15 Oct 2023) EllapsedTime: 97.4 seconds RetCode: 0 Status: OK PackageFile: multicrispr_1.10.1.tar.gz PackageFileSize: 1.963 MiB