Package: multiSight Version: 1.8.0 Command: F:\biocbuild\bbs-3.17-bioc\R\bin\R.exe CMD check --no-multiarch --install=check:multiSight.install-out.txt --library=F:\biocbuild\bbs-3.17-bioc\R\library --no-vignettes --timings multiSight_1.8.0.tar.gz StartedAt: 2023-10-16 04:33:48 -0400 (Mon, 16 Oct 2023) EndedAt: 2023-10-16 04:39:01 -0400 (Mon, 16 Oct 2023) EllapsedTime: 312.1 seconds RetCode: 1 Status: ERROR CheckDir: multiSight.Rcheck Warnings: NA