Package: multiSight Version: 1.8.0 Command: chmod a+r multiSight -R && F:\biocbuild\bbs-3.17-bioc\R\bin\R.exe CMD build --keep-empty-dirs --no-resave-data multiSight StartedAt: 2023-10-15 20:45:23 -0400 (Sun, 15 Oct 2023) EndedAt: 2023-10-15 20:48:12 -0400 (Sun, 15 Oct 2023) EllapsedTime: 168.4 seconds RetCode: 0 Status: OK PackageFile: multiSight_1.8.0.tar.gz PackageFileSize: 2.403 MiB