Package: multiSight Version: 1.8.0 Command: rm -rf multiSight.buildbin-libdir && mkdir multiSight.buildbin-libdir && F:\biocbuild\bbs-3.17-bioc\R\bin\R.exe CMD INSTALL --build --library=multiSight.buildbin-libdir multiSight_1.8.0.tar.gz StartedAt: 2023-10-16 09:09:19 -0400 (Mon, 16 Oct 2023) EndedAt: 2023-10-16 09:10:35 -0400 (Mon, 16 Oct 2023) EllapsedTime: 75.7 seconds RetCode: 0 Status: OK PackageFile: multiSight_1.8.0.zip PackageFileSize: 2.547 MiB