Package: multiSight Version: 1.8.0 Command: /home/biocbuild/bbs-3.17-bioc/R/bin/R CMD INSTALL multiSight StartedAt: 2023-10-15 15:43:01 -0400 (Sun, 15 Oct 2023) EndedAt: 2023-10-15 15:43:58 -0400 (Sun, 15 Oct 2023) EllapsedTime: 57.0 seconds RetCode: 0 Status: OK