Package: multiSight Version: 1.8.0 Command: /home/biocbuild/bbs-3.17-bioc/R/bin/R CMD check --install=check:multiSight.install-out.txt --library=/home/biocbuild/bbs-3.17-bioc/R/site-library --timings multiSight_1.8.0.tar.gz StartedAt: 2023-10-15 23:11:18 -0400 (Sun, 15 Oct 2023) EndedAt: 2023-10-15 23:17:13 -0400 (Sun, 15 Oct 2023) EllapsedTime: 354.6 seconds RetCode: 1 Status: ERROR CheckDir: multiSight.Rcheck Warnings: NA