Package: multiSight Version: 1.8.0 Command: /home/biocbuild/bbs-3.17-bioc/R/bin/R CMD build --keep-empty-dirs --no-resave-data multiSight StartedAt: 2023-10-15 17:36:33 -0400 (Sun, 15 Oct 2023) EndedAt: 2023-10-15 17:38:06 -0400 (Sun, 15 Oct 2023) EllapsedTime: 93.4 seconds RetCode: 0 Status: OK PackageFile: multiSight_1.8.0.tar.gz PackageFileSize: 2.403 MiB