Package: multiSight Version: 1.8.0 Command: /Library/Frameworks/R.framework/Resources/bin/R CMD INSTALL multiSight StartedAt: 2023-10-15 16:18:27 -0400 (Sun, 15 Oct 2023) EndedAt: 2023-10-15 16:21:28 -0400 (Sun, 15 Oct 2023) EllapsedTime: 180.7 seconds RetCode: 0 Status: OK