Package: multiSight Version: 1.8.0 Command: /Library/Frameworks/R.framework/Resources/bin/R CMD check --install=check:multiSight.install-out.txt --library=/Library/Frameworks/R.framework/Resources/library --no-vignettes --timings multiSight_1.8.0.tar.gz StartedAt: 2023-10-16 04:28:35 -0400 (Mon, 16 Oct 2023) EndedAt: 2023-10-16 04:41:47 -0400 (Mon, 16 Oct 2023) EllapsedTime: 792.5 seconds RetCode: 1 Status: ERROR CheckDir: multiSight.Rcheck Warnings: NA