Package: multiOmicsViz Version: 1.24.0 Command: chmod a+r multiOmicsViz -R && F:\biocbuild\bbs-3.17-bioc\R\bin\R.exe CMD build --keep-empty-dirs --no-resave-data multiOmicsViz StartedAt: 2023-10-15 20:45:07 -0400 (Sun, 15 Oct 2023) EndedAt: 2023-10-15 20:46:00 -0400 (Sun, 15 Oct 2023) EllapsedTime: 53.3 seconds RetCode: 0 Status: OK PackageFile: multiOmicsViz_1.24.0.tar.gz PackageFileSize: 2.848 MiB