Package: multiOmicsViz Version: 1.24.0 Command: rm -rf multiOmicsViz.buildbin-libdir && mkdir multiOmicsViz.buildbin-libdir && F:\biocbuild\bbs-3.17-bioc\R\bin\R.exe CMD INSTALL --build --library=multiOmicsViz.buildbin-libdir multiOmicsViz_1.24.0.tar.gz StartedAt: 2023-10-16 09:09:16 -0400 (Mon, 16 Oct 2023) EndedAt: 2023-10-16 09:09:46 -0400 (Mon, 16 Oct 2023) EllapsedTime: 29.5 seconds RetCode: 0 Status: OK PackageFile: multiOmicsViz_1.24.0.zip PackageFileSize: 1.485 MiB