Package: multiOmicsViz Version: 1.24.0 Command: /Library/Frameworks/R.framework/Resources/bin/R CMD check --install=check:multiOmicsViz.install-out.txt --library=/Library/Frameworks/R.framework/Resources/library --no-vignettes --timings multiOmicsViz_1.24.0.tar.gz StartedAt: 2023-10-16 04:28:20 -0400 (Mon, 16 Oct 2023) EndedAt: 2023-10-16 04:35:01 -0400 (Mon, 16 Oct 2023) EllapsedTime: 401.3 seconds RetCode: 0 Status: OK CheckDir: multiOmicsViz.Rcheck Warnings: 0