Package: multiOmicsViz Version: 1.24.0 Command: /Library/Frameworks/R.framework/Resources/bin/R CMD build --keep-empty-dirs --no-resave-data multiOmicsViz StartedAt: 2023-10-15 19:48:01 -0400 (Sun, 15 Oct 2023) EndedAt: 2023-10-15 19:50:02 -0400 (Sun, 15 Oct 2023) EllapsedTime: 121.0 seconds RetCode: 0 Status: OK PackageFile: multiOmicsViz_1.24.0.tar.gz PackageFileSize: 2.954 MiB