Package: multiOmicsViz Version: 1.24.0 Command: rm -rf multiOmicsViz.buildbin-libdir && mkdir multiOmicsViz.buildbin-libdir && /Users/biocbuild/BBS/utils/build-universal.sh multiOmicsViz_1.24.0.tar.gz /Library/Frameworks/R.framework/Resources/bin/R multiOmicsViz.buildbin-libdir StartedAt: 2023-10-16 09:48:17 -0400 (Mon, 16 Oct 2023) EndedAt: 2023-10-16 09:49:22 -0400 (Mon, 16 Oct 2023) EllapsedTime: 64.7 seconds RetCode: 0 Status: OK PackageFile: multiOmicsViz_1.24.0.tgz PackageFileSize: 1.6 MiB