Package: multiMiR Version: 1.22.0 Command: /home/biocbuild/bbs-3.17-bioc/R/bin/R CMD INSTALL multiMiR StartedAt: 2023-10-15 15:20:02 -0400 (Sun, 15 Oct 2023) EndedAt: 2023-10-15 15:20:19 -0400 (Sun, 15 Oct 2023) EllapsedTime: 17.0 seconds RetCode: 0 Status: OK