Package: multiMiR Version: 1.22.0 Command: /Library/Frameworks/R.framework/Resources/bin/R CMD INSTALL multiMiR StartedAt: 2023-10-15 15:27:19 -0400 (Sun, 15 Oct 2023) EndedAt: 2023-10-15 15:28:24 -0400 (Sun, 15 Oct 2023) EllapsedTime: 64.9 seconds RetCode: 0 Status: OK