Package: multiMiR Version: 1.22.0 Command: rm -rf multiMiR.buildbin-libdir && mkdir multiMiR.buildbin-libdir && /Users/biocbuild/BBS/utils/build-universal.sh multiMiR_1.22.0.tar.gz /Library/Frameworks/R.framework/Resources/bin/R multiMiR.buildbin-libdir StartedAt: 2023-10-16 09:48:13 -0400 (Mon, 16 Oct 2023) EndedAt: 2023-10-16 09:49:11 -0400 (Mon, 16 Oct 2023) EllapsedTime: 58.2 seconds RetCode: 0 Status: OK PackageFile: multiMiR_1.22.0.tgz PackageFileSize: 630.7 KiB