Package: multiHiCcompare Version: 1.18.1 Command: chmod a+r multiHiCcompare -R && F:\biocbuild\bbs-3.17-bioc\R\bin\R.exe CMD build --keep-empty-dirs --no-resave-data multiHiCcompare StartedAt: 2023-10-15 20:44:34 -0400 (Sun, 15 Oct 2023) EndedAt: 2023-10-15 20:45:55 -0400 (Sun, 15 Oct 2023) EllapsedTime: 80.4 seconds RetCode: 0 Status: OK PackageFile: multiHiCcompare_1.18.1.tar.gz PackageFileSize: 4.488 MiB