Package: multiHiCcompare Version: 1.18.1 Command: rm -rf multiHiCcompare.buildbin-libdir && mkdir multiHiCcompare.buildbin-libdir && F:\biocbuild\bbs-3.17-bioc\R\bin\R.exe CMD INSTALL --build --library=multiHiCcompare.buildbin-libdir multiHiCcompare_1.18.1.tar.gz StartedAt: 2023-10-16 09:09:09 -0400 (Mon, 16 Oct 2023) EndedAt: 2023-10-16 09:10:04 -0400 (Mon, 16 Oct 2023) EllapsedTime: 54.3 seconds RetCode: 0 Status: OK PackageFile: multiHiCcompare_1.18.1.zip PackageFileSize: 5.112 MiB