Package: multiHiCcompare Version: 1.18.1 Command: /home/biocbuild/bbs-3.17-bioc/R/bin/R CMD check --install=check:multiHiCcompare.install-out.txt --library=/home/biocbuild/bbs-3.17-bioc/R/site-library --timings multiHiCcompare_1.18.1.tar.gz StartedAt: 2023-10-15 23:09:34 -0400 (Sun, 15 Oct 2023) EndedAt: 2023-10-15 23:13:39 -0400 (Sun, 15 Oct 2023) EllapsedTime: 244.5 seconds RetCode: 0 Status: OK CheckDir: multiHiCcompare.Rcheck Warnings: 0