Package: multiHiCcompare Version: 1.18.1 Command: /home/biocbuild/bbs-3.17-bioc/R/bin/R CMD build --keep-empty-dirs --no-resave-data multiHiCcompare StartedAt: 2023-10-15 17:36:03 -0400 (Sun, 15 Oct 2023) EndedAt: 2023-10-15 17:37:00 -0400 (Sun, 15 Oct 2023) EllapsedTime: 57.3 seconds RetCode: 0 Status: OK PackageFile: multiHiCcompare_1.18.1.tar.gz PackageFileSize: 4.597 MiB